BEGIN:VCALENDAR
VERSION:2.0
PRODID:-//Bib&#039;INSA - ECPv6.15.17.1//NONSGML v1.0//EN
CALSCALE:GREGORIAN
METHOD:PUBLISH
X-ORIGINAL-URL:https://bib.insa-toulouse.fr
X-WR-CALDESC:Évènements pour Bib&#039;INSA
REFRESH-INTERVAL;VALUE=DURATION:PT1H
X-Robots-Tag:noindex
X-PUBLISHED-TTL:PT1H
BEGIN:VTIMEZONE
TZID:Europe/Paris
BEGIN:DAYLIGHT
TZOFFSETFROM:+0100
TZOFFSETTO:+0200
TZNAME:CEST
DTSTART:20250330T010000
END:DAYLIGHT
BEGIN:STANDARD
TZOFFSETFROM:+0200
TZOFFSETTO:+0100
TZNAME:CET
DTSTART:20251026T010000
END:STANDARD
BEGIN:DAYLIGHT
TZOFFSETFROM:+0100
TZOFFSETTO:+0200
TZNAME:CEST
DTSTART:20260329T010000
END:DAYLIGHT
BEGIN:STANDARD
TZOFFSETFROM:+0200
TZOFFSETTO:+0100
TZNAME:CET
DTSTART:20261025T010000
END:STANDARD
BEGIN:DAYLIGHT
TZOFFSETFROM:+0100
TZOFFSETTO:+0200
TZNAME:CEST
DTSTART:20270328T010000
END:DAYLIGHT
BEGIN:STANDARD
TZOFFSETFROM:+0200
TZOFFSETTO:+0100
TZNAME:CET
DTSTART:20271031T010000
END:STANDARD
END:VTIMEZONE
BEGIN:VEVENT
DTSTART;TZID=Europe/Paris:20260309T080000
DTEND;TZID=Europe/Paris:20260309T170000
DTSTAMP:20260421T033930
CREATED:20260209T143357Z
LAST-MODIFIED:20260209T143417Z
UID:4046-1773043200-1773075600@bib.insa-toulouse.fr
SUMMARY:Concours de nouvelles : date limite de dépôt le 9 mars
DESCRIPTION:
URL:https://www.groupe-insa.fr/concours-nouvelles-2026#new_tab
ATTACH;FMTTYPE=image/png:https://bib.insa-toulouse.fr/wp-content/uploads/sites/5/2025/12/actu_concours_nouvelles.png
END:VEVENT
BEGIN:VEVENT
DTSTART;TZID=Europe/Paris:20260310T123000
DTEND;TZID=Europe/Paris:20260310T140000
DTSTAMP:20260421T033930
CREATED:20251215T151711Z
LAST-MODIFIED:20251216T090631Z
UID:3837-1773145800-1773151200@bib.insa-toulouse.fr
SUMMARY:Atelier Canva : Organigramme
DESCRIPTION:
URL:https://bib.insa-toulouse.fr/ateliers-canva/#new_tab
LOCATION:Salle de formation de Bib’INSA\, 135 avenue de Rangueil\, Toulouse cedex 4\, 31077\, France
CATEGORIES:Atelier
ATTACH;FMTTYPE=image/png:https://bib.insa-toulouse.fr/wp-content/uploads/sites/5/2024/10/2024_actu_stretching.png
END:VEVENT
BEGIN:VEVENT
DTSTART;TZID=Europe/Paris:20260312T124500
DTEND;TZID=Europe/Paris:20260312T134500
DTSTAMP:20260421T033930
CREATED:20260106T092130Z
LAST-MODIFIED:20260106T092349Z
UID:3908-1773319500-1773323100@bib.insa-toulouse.fr
SUMMARY:Atelier de conversation en anglais
DESCRIPTION:
URL:https://bib.insa-toulouse.fr/conversation-anglais/#new_tab
LOCATION:Salle de formation de Bib’INSA\, 135 avenue de Rangueil\, Toulouse cedex 4\, 31077\, France
CATEGORIES:Atelier
ATTACH;FMTTYPE=image/png:https://bib.insa-toulouse.fr/wp-content/uploads/sites/5/2024/10/2025_actu_conv_ang.png
END:VEVENT
BEGIN:VEVENT
DTSTART;VALUE=DATE:20260316
DTEND;VALUE=DATE:20260321
DTSTAMP:20260421T033930
CREATED:20251216T090759Z
LAST-MODIFIED:20251216T090759Z
UID:3841-1773619200-1774051199@bib.insa-toulouse.fr
SUMMARY:Exposition sur le numérique
DESCRIPTION:
URL:https://bib.insa-toulouse.fr/evenement/exposition-sur-le-numerique/
LOCATION:Espace Marie et Pierre Curie\, bât. 8
CATEGORIES:Exposition
END:VEVENT
BEGIN:VEVENT
DTSTART;TZID=Europe/Paris:20260319T124500
DTEND;TZID=Europe/Paris:20260319T134500
DTSTAMP:20260421T033930
CREATED:20250627T093154Z
LAST-MODIFIED:20250902T122620Z
UID:3312-1773924300-1773927900@bib.insa-toulouse.fr
SUMMARY:Atelier Zotero
DESCRIPTION:
URL:https://bib.insa-toulouse.fr/ateliers-zotero/#new_tab
LOCATION:Salle de formation de Bib’INSA\, 135 avenue de Rangueil\, Toulouse cedex 4\, 31077\, France
CATEGORIES:Atelier
ATTACH;FMTTYPE=image/png:https://bib.insa-toulouse.fr/wp-content/uploads/sites/5/2025/06/2024_ev_zotero.png
END:VEVENT
BEGIN:VEVENT
DTSTART;TZID=Europe/Paris:20260319T124500
DTEND;TZID=Europe/Paris:20260319T134500
DTSTAMP:20260421T033930
CREATED:20251216T100047Z
LAST-MODIFIED:20260310T135811Z
UID:3855-1773924300-1773927900@bib.insa-toulouse.fr
SUMMARY:Atelier de conversation en français
DESCRIPTION:
URL:https://bib.insa-toulouse.fr/conversation-en-francais/#new_tab
LOCATION:Box 3 de la bibliothèque\, 135 avenue de Rangueil\, Toulouse cedex 4\, 31077\, France
CATEGORIES:Atelier
ATTACH;FMTTYPE=image/png:https://bib.insa-toulouse.fr/wp-content/uploads/sites/5/2024/10/2025_actu_conv-fr-ext.png
END:VEVENT
BEGIN:VEVENT
DTSTART;TZID=Europe/Paris:20260323T124500
DTEND;TZID=Europe/Paris:20260323T134500
DTSTAMP:20260421T033930
CREATED:20250616T125055Z
LAST-MODIFIED:20260313T150602Z
UID:3212-1774269900-1774273500@bib.insa-toulouse.fr
SUMMARY:Atelier d'écriture
DESCRIPTION:
URL:https://bib.insa-toulouse.fr/ateliers-decriture/#new_tab
LOCATION:Salles Multiservices\, bât. 8
CATEGORIES:Atelier
ATTACH;FMTTYPE=image/png:https://bib.insa-toulouse.fr/wp-content/uploads/sites/5/2025/07/2025_actu_ecriture.png
END:VEVENT
BEGIN:VEVENT
DTSTART;TZID=Europe/Paris:20260325T124500
DTEND;TZID=Europe/Paris:20260325T134500
DTSTAMP:20260421T033930
CREATED:20251216T144100Z
LAST-MODIFIED:20260323T095904Z
UID:3888-1774442700-1774446300@bib.insa-toulouse.fr
SUMMARY:Atelier d'échecs - Annulé
DESCRIPTION:
URL:https://bib.insa-toulouse.fr/ateliers-dechecs/#new_tab
LOCATION:Salle de formation de Bib’INSA\, 135 avenue de Rangueil\, Toulouse cedex 4\, 31077\, France
CATEGORIES:Atelier
ATTACH;FMTTYPE=image/png:https://bib.insa-toulouse.fr/wp-content/uploads/sites/5/2025/12/2025_05_actu_tournoi_echecs-2.png
END:VEVENT
BEGIN:VEVENT
DTSTART;TZID=Europe/Paris:20260326T124500
DTEND;TZID=Europe/Paris:20260326T134500
DTSTAMP:20260421T033930
CREATED:20251216T100105Z
LAST-MODIFIED:20251216T100105Z
UID:3857-1774529100-1774532700@bib.insa-toulouse.fr
SUMMARY:Atelier de conversation en français
DESCRIPTION:
URL:https://bib.insa-toulouse.fr/conversation-en-francais/#new_tab
LOCATION:Salles Multiservices\, bât. 8
CATEGORIES:Atelier
ATTACH;FMTTYPE=image/png:https://bib.insa-toulouse.fr/wp-content/uploads/sites/5/2024/10/2025_actu_conv-fr-ext.png
END:VEVENT
BEGIN:VEVENT
DTSTART;TZID=Europe/Paris:20260326T124500
DTEND;TZID=Europe/Paris:20260326T134500
DTSTAMP:20260421T033930
CREATED:20260106T092217Z
LAST-MODIFIED:20260106T092217Z
UID:3910-1774529100-1774532700@bib.insa-toulouse.fr
SUMMARY:Atelier de conversation en anglais
DESCRIPTION:
URL:https://bib.insa-toulouse.fr/conversation-anglais/#new_tab
LOCATION:Salle de formation de Bib’INSA\, 135 avenue de Rangueil\, Toulouse cedex 4\, 31077\, France
CATEGORIES:Atelier
ATTACH;FMTTYPE=image/png:https://bib.insa-toulouse.fr/wp-content/uploads/sites/5/2024/10/2025_actu_conv_ang.png
END:VEVENT
BEGIN:VEVENT
DTSTART;VALUE=DATE:20260330
DTEND;VALUE=DATE:20260404
DTSTAMP:20260421T033930
CREATED:20251216T090843Z
LAST-MODIFIED:20260317T093840Z
UID:3843-1774828800-1775260799@bib.insa-toulouse.fr
SUMMARY:Ouvrez-la ! Données et publications ouvertes : pour une science partagée
DESCRIPTION:
URL:https://www.univ-toulouse.fr/evenements/ouvrez-donnees-et-publications-ouvertes-pour-science-partagee
LOCATION:Bib’INSA\, bât. 8\, 135 avenue de Rangueil\, Toulouse cedex 4\, 31077\, France
CATEGORIES:Semaine
ATTACH;FMTTYPE=image/png:https://bib.insa-toulouse.fr/wp-content/uploads/sites/5/2026/03/Ouvrez-la-_2026_Affiche.pdf-250-x-250-px.png
END:VEVENT
END:VCALENDAR