BEGIN:VCALENDAR
VERSION:2.0
PRODID:-//Bib&#039;INSA - ECPv6.15.17.1//NONSGML v1.0//EN
CALSCALE:GREGORIAN
METHOD:PUBLISH
X-ORIGINAL-URL:https://bib.insa-toulouse.fr
X-WR-CALDESC:Évènements pour Bib&#039;INSA
REFRESH-INTERVAL;VALUE=DURATION:PT1H
X-Robots-Tag:noindex
X-PUBLISHED-TTL:PT1H
BEGIN:VTIMEZONE
TZID:Europe/Paris
BEGIN:DAYLIGHT
TZOFFSETFROM:+0100
TZOFFSETTO:+0200
TZNAME:CEST
DTSTART:20250330T010000
END:DAYLIGHT
BEGIN:STANDARD
TZOFFSETFROM:+0200
TZOFFSETTO:+0100
TZNAME:CET
DTSTART:20251026T010000
END:STANDARD
BEGIN:DAYLIGHT
TZOFFSETFROM:+0100
TZOFFSETTO:+0200
TZNAME:CEST
DTSTART:20260329T010000
END:DAYLIGHT
BEGIN:STANDARD
TZOFFSETFROM:+0200
TZOFFSETTO:+0100
TZNAME:CET
DTSTART:20261025T010000
END:STANDARD
BEGIN:DAYLIGHT
TZOFFSETFROM:+0100
TZOFFSETTO:+0200
TZNAME:CEST
DTSTART:20270328T010000
END:DAYLIGHT
BEGIN:STANDARD
TZOFFSETFROM:+0200
TZOFFSETTO:+0100
TZNAME:CET
DTSTART:20271031T010000
END:STANDARD
END:VTIMEZONE
BEGIN:VEVENT
DTSTART;TZID=Europe/Paris:20260108T124500
DTEND;TZID=Europe/Paris:20260108T134500
DTSTAMP:20260421T050654
CREATED:20250627T092849Z
LAST-MODIFIED:20251215T133043Z
UID:3306-1767876300-1767879900@bib.insa-toulouse.fr
SUMMARY:Atelier Zotero
DESCRIPTION:
URL:https://bib.insa-toulouse.fr/ateliers-zotero/#new_tab
LOCATION:Salle de formation de Bib’INSA\, 135 avenue de Rangueil\, Toulouse cedex 4\, 31077\, France
CATEGORIES:Atelier
ATTACH;FMTTYPE=image/png:https://bib.insa-toulouse.fr/wp-content/uploads/sites/5/2025/06/2024_ev_zotero.png
END:VEVENT
BEGIN:VEVENT
DTSTART;TZID=Europe/Paris:20260112T124500
DTEND;TZID=Europe/Paris:20260112T134500
DTSTAMP:20260421T050654
CREATED:20251215T133133Z
LAST-MODIFIED:20251215T133133Z
UID:3826-1768221900-1768225500@bib.insa-toulouse.fr
SUMMARY:Atelier d'écriture
DESCRIPTION:
URL:https://bib.insa-toulouse.fr/ateliers-decriture/#new_tab
LOCATION:Salles Multiservices\, bât. 8
CATEGORIES:Atelier
ATTACH;FMTTYPE=image/png:https://bib.insa-toulouse.fr/wp-content/uploads/sites/5/2025/07/2025_actu_ecriture.png
END:VEVENT
BEGIN:VEVENT
DTSTART;TZID=Europe/Paris:20260115T124500
DTEND;TZID=Europe/Paris:20260115T134500
DTSTAMP:20260421T050654
CREATED:20251216T095804Z
LAST-MODIFIED:20251216T095945Z
UID:3849-1768481100-1768484700@bib.insa-toulouse.fr
SUMMARY:Atelier de conversation en français
DESCRIPTION:
URL:https://bib.insa-toulouse.fr/conversation-en-francais/#new_tab
LOCATION:Salles Multiservices\, bât. 8
CATEGORIES:Atelier
ATTACH;FMTTYPE=image/png:https://bib.insa-toulouse.fr/wp-content/uploads/sites/5/2024/10/2025_actu_conv-fr-ext.png
END:VEVENT
BEGIN:VEVENT
DTSTART;TZID=Europe/Paris:20260115T124500
DTEND;TZID=Europe/Paris:20260115T134500
DTSTAMP:20260421T050654
CREATED:20260106T091649Z
LAST-MODIFIED:20260106T091649Z
UID:3904-1768481100-1768484700@bib.insa-toulouse.fr
SUMMARY:Atelier de conversation en anglais
DESCRIPTION:
URL:https://bib.insa-toulouse.fr/conversation-anglais/#new_tab
LOCATION:Salle de formation de Bib’INSA\, 135 avenue de Rangueil\, Toulouse cedex 4\, 31077\, France
CATEGORIES:Atelier
ATTACH;FMTTYPE=image/png:https://bib.insa-toulouse.fr/wp-content/uploads/sites/5/2024/10/2025_actu_conv_ang.png
END:VEVENT
BEGIN:VEVENT
DTSTART;TZID=Europe/Paris:20260128T124500
DTEND;TZID=Europe/Paris:20260128T134500
DTSTAMP:20260421T050654
CREATED:20251216T144004Z
LAST-MODIFIED:20251216T144004Z
UID:3884-1769604300-1769607900@bib.insa-toulouse.fr
SUMMARY:Atelier d'échecs
DESCRIPTION:
URL:https://bib.insa-toulouse.fr/ateliers-dechecs/#new_tab
LOCATION:Salle de formation de Bib’INSA\, 135 avenue de Rangueil\, Toulouse cedex 4\, 31077\, France
CATEGORIES:Atelier
ATTACH;FMTTYPE=image/png:https://bib.insa-toulouse.fr/wp-content/uploads/sites/5/2025/12/2025_05_actu_tournoi_echecs-2.png
END:VEVENT
END:VCALENDAR