BEGIN:VCALENDAR
VERSION:2.0
PRODID:-//Bib&#039;INSA - ECPv6.15.17.1//NONSGML v1.0//EN
CALSCALE:GREGORIAN
METHOD:PUBLISH
X-ORIGINAL-URL:https://bib.insa-toulouse.fr
X-WR-CALDESC:Évènements pour Bib&#039;INSA
REFRESH-INTERVAL;VALUE=DURATION:PT1H
X-Robots-Tag:noindex
X-PUBLISHED-TTL:PT1H
BEGIN:VTIMEZONE
TZID:Europe/Paris
BEGIN:DAYLIGHT
TZOFFSETFROM:+0100
TZOFFSETTO:+0200
TZNAME:CEST
DTSTART:20240331T010000
END:DAYLIGHT
BEGIN:STANDARD
TZOFFSETFROM:+0200
TZOFFSETTO:+0100
TZNAME:CET
DTSTART:20241027T010000
END:STANDARD
BEGIN:DAYLIGHT
TZOFFSETFROM:+0100
TZOFFSETTO:+0200
TZNAME:CEST
DTSTART:20250330T010000
END:DAYLIGHT
BEGIN:STANDARD
TZOFFSETFROM:+0200
TZOFFSETTO:+0100
TZNAME:CET
DTSTART:20251026T010000
END:STANDARD
BEGIN:DAYLIGHT
TZOFFSETFROM:+0100
TZOFFSETTO:+0200
TZNAME:CEST
DTSTART:20260329T010000
END:DAYLIGHT
BEGIN:STANDARD
TZOFFSETFROM:+0200
TZOFFSETTO:+0100
TZNAME:CET
DTSTART:20261025T010000
END:STANDARD
END:VTIMEZONE
BEGIN:VEVENT
DTSTART;TZID=Europe/Paris:20250903T080000
DTEND;TZID=Europe/Paris:20251001T170000
DTSTAMP:20260421T050742
CREATED:20250903T090552Z
LAST-MODIFIED:20250903T090730Z
UID:3486-1756886400-1759338000@bib.insa-toulouse.fr
SUMMARY:Concours de texte libre
DESCRIPTION:À l’occasion du festival des campus en transitions Futurs Proches du 9 octobre 2025\, la bibliothèque de l’INSA vous propose un concours de texte sur le thème des nuages. Voir le règlement du concours. \n\nRetour des textes mercredi 1er octobre (voir modalités de participation dans le règlement)\,\nAnnonce des résultats mercredi 8 octobre\, \nRemise des prix jeudi 9 octobre avec Mathieu Simonet suite au séminaire sur la défense des nuages.\n\nEn savoir + sur le festival 
URL:https://bib.insa-toulouse.fr/evenement/concours-de-texte-libre/
CATEGORIES:Evénement
ATTACH;FMTTYPE=image/png:https://bib.insa-toulouse.fr/wp-content/uploads/sites/5/2025/09/concours-de-texte.png
END:VEVENT
BEGIN:VEVENT
DTSTART;TZID=Europe/Paris:20250908T080000
DTEND;TZID=Europe/Paris:20251002T170000
DTSTAMP:20260421T050742
CREATED:20250616T122851Z
LAST-MODIFIED:20250926T133725Z
UID:3173-1757318400-1759424400@bib.insa-toulouse.fr
SUMMARY:Exposition Eurêka
DESCRIPTION:
URL:https://bib.insa-toulouse.fr/exposition-conference-eureka/#new_tab
LOCATION:Espace Marie et Pierre Curie\, bât. 8
CATEGORIES:Exposition
ATTACH;FMTTYPE=image/png:https://bib.insa-toulouse.fr/wp-content/uploads/sites/5/2025/07/2025_eureka.png
END:VEVENT
BEGIN:VEVENT
DTSTART;TZID=Europe/Paris:20251002T124500
DTEND;TZID=Europe/Paris:20251002T134500
DTSTAMP:20260421T050742
CREATED:20250903T121913Z
LAST-MODIFIED:20250903T121913Z
UID:3498-1759409100-1759412700@bib.insa-toulouse.fr
SUMMARY:Atelier de conversation en français
DESCRIPTION:
URL:https://bib.insa-toulouse.fr/conversation-en-francais/#new_tab
LOCATION:Salles Multiservices\, bât. 8
CATEGORIES:Atelier
ATTACH;FMTTYPE=image/png:https://bib.insa-toulouse.fr/wp-content/uploads/sites/5/2024/10/2025_actu_conv-fr-ext.png
END:VEVENT
BEGIN:VEVENT
DTSTART;TZID=Europe/Paris:20251008T124500
DTEND;TZID=Europe/Paris:20251008T134500
DTSTAMP:20260421T050742
CREATED:20250903T123510Z
LAST-MODIFIED:20250903T123510Z
UID:3514-1759927500-1759931100@bib.insa-toulouse.fr
SUMMARY:Atelier de conversation en anglais
DESCRIPTION:
URL:https://bib.insa-toulouse.fr/conversation-anglais/#new_tab
LOCATION:Box 3 de la bibliothèque\, 135 avenue de Rangueil\, Toulouse cedex 4\, 31077\, France
CATEGORIES:Atelier
ATTACH;FMTTYPE=image/png:https://bib.insa-toulouse.fr/wp-content/uploads/sites/5/2024/10/2025_actu_conv_ang.png
END:VEVENT
BEGIN:VEVENT
DTSTART;TZID=Europe/Paris:20251009T090000
DTEND;TZID=Europe/Paris:20251009T170000
DTSTAMP:20260421T050742
CREATED:20250616T123129Z
LAST-MODIFIED:20250716T140734Z
UID:3177-1760000400-1760029200@bib.insa-toulouse.fr
SUMMARY:Festival Futurs Proches
DESCRIPTION:
URL:https://bib.insa-toulouse.fr/futurs-proches/#new_tab
CATEGORIES:Evénement
ATTACH;FMTTYPE=image/png:https://bib.insa-toulouse.fr/wp-content/uploads/sites/5/2025/07/Actu_site_Futurs_Proches_2025.png
END:VEVENT
BEGIN:VEVENT
DTSTART;TZID=Europe/Paris:20251010T124500
DTEND;TZID=Europe/Paris:20251010T140000
DTSTAMP:20260421T050742
CREATED:20250616T123224Z
LAST-MODIFIED:20250716T141113Z
UID:3179-1760100300-1760104800@bib.insa-toulouse.fr
SUMMARY:Toulouse Polars du Sud
DESCRIPTION:
URL:https://bib.insa-toulouse.fr/toulouse-polars-du-sud/#new_tab
LOCATION:Bib’INSA\, bât. 8\, 135 avenue de Rangueil\, Toulouse cedex 4\, 31077\, France
CATEGORIES:Rencontre
ATTACH;FMTTYPE=image/png:https://bib.insa-toulouse.fr/wp-content/uploads/sites/5/2025/07/2025_actu_tps.png
END:VEVENT
BEGIN:VEVENT
DTSTART;TZID=Europe/Paris:20251016T124500
DTEND;TZID=Europe/Paris:20251016T124500
DTSTAMP:20260421T050742
CREATED:20250903T123532Z
LAST-MODIFIED:20251003T134816Z
UID:3516-1760618700-1760618700@bib.insa-toulouse.fr
SUMMARY:Atelier de conversation en anglais
DESCRIPTION:
URL:https://bib.insa-toulouse.fr/conversation-anglais/#new_tab
LOCATION:Box 3 de la bibliothèque\, 135 avenue de Rangueil\, Toulouse cedex 4\, 31077\, France
CATEGORIES:Atelier
ATTACH;FMTTYPE=image/png:https://bib.insa-toulouse.fr/wp-content/uploads/sites/5/2024/10/2025_actu_conv_ang.png
END:VEVENT
BEGIN:VEVENT
DTSTART;TZID=Europe/Paris:20251016T124500
DTEND;TZID=Europe/Paris:20251016T134500
DTSTAMP:20260421T050742
CREATED:20250627T092616Z
LAST-MODIFIED:20250902T122824Z
UID:3302-1760618700-1760622300@bib.insa-toulouse.fr
SUMMARY:Atelier Zotero
DESCRIPTION:
URL:https://bib.insa-toulouse.fr/ateliers-zotero/#new_tab
LOCATION:Salle de formation de Bib’INSA\, 135 avenue de Rangueil\, Toulouse cedex 4\, 31077\, France
CATEGORIES:Atelier
ATTACH;FMTTYPE=image/png:https://bib.insa-toulouse.fr/wp-content/uploads/sites/5/2025/06/2024_ev_zotero.png
END:VEVENT
BEGIN:VEVENT
DTSTART;TZID=Europe/Paris:20251020T124500
DTEND;TZID=Europe/Paris:20251020T134500
DTSTAMP:20260421T050742
CREATED:20250616T123419Z
LAST-MODIFIED:20250715T150722Z
UID:3183-1760964300-1760967900@bib.insa-toulouse.fr
SUMMARY:Atelier d'écriture
DESCRIPTION:
URL:https://bib.insa-toulouse.fr/ateliers-decriture/#new_tab
LOCATION:Salles Multiservices\, bât. 8
CATEGORIES:Atelier
ATTACH;FMTTYPE=image/png:https://bib.insa-toulouse.fr/wp-content/uploads/sites/5/2025/07/2025_actu_ecriture.png
END:VEVENT
BEGIN:VEVENT
DTSTART;TZID=Europe/Paris:20251023T124500
DTEND;TZID=Europe/Paris:20251023T134500
DTSTAMP:20260421T050742
CREATED:20250903T121955Z
LAST-MODIFIED:20251003T134745Z
UID:3500-1761223500-1761227100@bib.insa-toulouse.fr
SUMMARY:Atelier de conversation en français
DESCRIPTION:
URL:https://bib.insa-toulouse.fr/conversation-en-francais/#new_tab
LOCATION:Salles Multiservices\, bât. 8
CATEGORIES:Atelier
ATTACH;FMTTYPE=image/png:https://bib.insa-toulouse.fr/wp-content/uploads/sites/5/2024/10/2025_actu_conv-fr-ext.png
END:VEVENT
END:VCALENDAR