BEGIN:VCALENDAR
VERSION:2.0
PRODID:-//Bib&#039;INSA - ECPv6.15.17.1//NONSGML v1.0//EN
CALSCALE:GREGORIAN
METHOD:PUBLISH
X-WR-CALNAME:Bib&#039;INSA
X-ORIGINAL-URL:https://bib.insa-toulouse.fr
X-WR-CALDESC:Évènements pour Bib&#039;INSA
REFRESH-INTERVAL;VALUE=DURATION:PT1H
X-Robots-Tag:noindex
X-PUBLISHED-TTL:PT1H
BEGIN:VTIMEZONE
TZID:Europe/Paris
BEGIN:DAYLIGHT
TZOFFSETFROM:+0100
TZOFFSETTO:+0200
TZNAME:CEST
DTSTART:20240331T010000
END:DAYLIGHT
BEGIN:STANDARD
TZOFFSETFROM:+0200
TZOFFSETTO:+0100
TZNAME:CET
DTSTART:20241027T010000
END:STANDARD
BEGIN:DAYLIGHT
TZOFFSETFROM:+0100
TZOFFSETTO:+0200
TZNAME:CEST
DTSTART:20250330T010000
END:DAYLIGHT
BEGIN:STANDARD
TZOFFSETFROM:+0200
TZOFFSETTO:+0100
TZNAME:CET
DTSTART:20251026T010000
END:STANDARD
BEGIN:DAYLIGHT
TZOFFSETFROM:+0100
TZOFFSETTO:+0200
TZNAME:CEST
DTSTART:20260329T010000
END:DAYLIGHT
BEGIN:STANDARD
TZOFFSETFROM:+0200
TZOFFSETTO:+0100
TZNAME:CET
DTSTART:20261025T010000
END:STANDARD
END:VTIMEZONE
BEGIN:VEVENT
DTSTART;TZID=Europe/Paris:20251120T124500
DTEND;TZID=Europe/Paris:20251120T134500
DTSTAMP:20260423T002132
CREATED:20250627T092738Z
LAST-MODIFIED:20250902T122755Z
UID:3304-1763642700-1763646300@bib.insa-toulouse.fr
SUMMARY:Atelier Zotero
DESCRIPTION:
URL:https://bib.insa-toulouse.fr/ateliers-zotero/#new_tab
LOCATION:Salle de formation de Bib’INSA\, 135 avenue de Rangueil\, Toulouse cedex 4\, 31077\, France
CATEGORIES:Atelier
ATTACH;FMTTYPE=image/png:https://bib.insa-toulouse.fr/wp-content/uploads/sites/5/2025/06/2024_ev_zotero.png
END:VEVENT
BEGIN:VEVENT
DTSTART;TZID=Europe/Paris:20251120T124500
DTEND;TZID=Europe/Paris:20251120T134500
DTSTAMP:20260423T002132
CREATED:20250903T122049Z
LAST-MODIFIED:20250903T122049Z
UID:3504-1763642700-1763646300@bib.insa-toulouse.fr
SUMMARY:Atelier de conversation en français
DESCRIPTION:
URL:https://bib.insa-toulouse.fr/conversation-en-francais/#new_tab
LOCATION:Salles Multiservices\, bât. 8
CATEGORIES:Atelier
ATTACH;FMTTYPE=image/png:https://bib.insa-toulouse.fr/wp-content/uploads/sites/5/2024/10/2025_actu_conv-fr-ext.png
END:VEVENT
BEGIN:VEVENT
DTSTART;TZID=Europe/Paris:20251120T124500
DTEND;TZID=Europe/Paris:20251120T134500
DTSTAMP:20260423T002132
CREATED:20250903T123701Z
LAST-MODIFIED:20250903T123701Z
UID:3520-1763642700-1763646300@bib.insa-toulouse.fr
SUMMARY:Atelier de conversation en anglais
DESCRIPTION:
URL:https://bib.insa-toulouse.fr/conversation-anglais/#new_tab
LOCATION:Box 3 de la bibliothèque\, 135 avenue de Rangueil\, Toulouse cedex 4\, 31077\, France
CATEGORIES:Atelier
ATTACH;FMTTYPE=image/png:https://bib.insa-toulouse.fr/wp-content/uploads/sites/5/2024/10/2025_actu_conv_ang.png
END:VEVENT
END:VCALENDAR