BEGIN:VCALENDAR
VERSION:2.0
PRODID:-//Bib&#039;INSA - ECPv6.15.17.1//NONSGML v1.0//EN
CALSCALE:GREGORIAN
METHOD:PUBLISH
X-WR-CALNAME:Bib&#039;INSA
X-ORIGINAL-URL:https://bib.insa-toulouse.fr
X-WR-CALDESC:Évènements pour Bib&#039;INSA
REFRESH-INTERVAL;VALUE=DURATION:PT1H
X-Robots-Tag:noindex
X-PUBLISHED-TTL:PT1H
BEGIN:VTIMEZONE
TZID:Europe/Paris
BEGIN:DAYLIGHT
TZOFFSETFROM:+0100
TZOFFSETTO:+0200
TZNAME:CEST
DTSTART:20240331T010000
END:DAYLIGHT
BEGIN:STANDARD
TZOFFSETFROM:+0200
TZOFFSETTO:+0100
TZNAME:CET
DTSTART:20241027T010000
END:STANDARD
BEGIN:DAYLIGHT
TZOFFSETFROM:+0100
TZOFFSETTO:+0200
TZNAME:CEST
DTSTART:20250330T010000
END:DAYLIGHT
BEGIN:STANDARD
TZOFFSETFROM:+0200
TZOFFSETTO:+0100
TZNAME:CET
DTSTART:20251026T010000
END:STANDARD
BEGIN:DAYLIGHT
TZOFFSETFROM:+0100
TZOFFSETTO:+0200
TZNAME:CEST
DTSTART:20260329T010000
END:DAYLIGHT
BEGIN:STANDARD
TZOFFSETFROM:+0200
TZOFFSETTO:+0100
TZNAME:CET
DTSTART:20261025T010000
END:STANDARD
END:VTIMEZONE
BEGIN:VEVENT
DTSTART;TZID=Europe/Paris:20251105T124500
DTEND;TZID=Europe/Paris:20251105T134500
DTSTAMP:20260423T002132
CREATED:20250903T123554Z
LAST-MODIFIED:20250903T123554Z
UID:3518-1762346700-1762350300@bib.insa-toulouse.fr
SUMMARY:Atelier de conversation en anglais
DESCRIPTION:
URL:https://bib.insa-toulouse.fr/conversation-anglais/#new_tab
LOCATION:Box 3 de la bibliothèque\, 135 avenue de Rangueil\, Toulouse cedex 4\, 31077\, France
CATEGORIES:Atelier
ATTACH;FMTTYPE=image/png:https://bib.insa-toulouse.fr/wp-content/uploads/sites/5/2024/10/2025_actu_conv_ang.png
END:VEVENT
END:VCALENDAR