BEGIN:VCALENDAR
VERSION:2.0
PRODID:-//Bib&#039;INSA - ECPv6.15.17.1//NONSGML v1.0//EN
CALSCALE:GREGORIAN
METHOD:PUBLISH
X-WR-CALNAME:Bib&#039;INSA
X-ORIGINAL-URL:https://bib.insa-toulouse.fr
X-WR-CALDESC:Évènements pour Bib&#039;INSA
REFRESH-INTERVAL;VALUE=DURATION:PT1H
X-Robots-Tag:noindex
X-PUBLISHED-TTL:PT1H
BEGIN:VTIMEZONE
TZID:Europe/Paris
BEGIN:DAYLIGHT
TZOFFSETFROM:+0100
TZOFFSETTO:+0200
TZNAME:CEST
DTSTART:20250330T010000
END:DAYLIGHT
BEGIN:STANDARD
TZOFFSETFROM:+0200
TZOFFSETTO:+0100
TZNAME:CET
DTSTART:20251026T010000
END:STANDARD
BEGIN:DAYLIGHT
TZOFFSETFROM:+0100
TZOFFSETTO:+0200
TZNAME:CEST
DTSTART:20260329T010000
END:DAYLIGHT
BEGIN:STANDARD
TZOFFSETFROM:+0200
TZOFFSETTO:+0100
TZNAME:CET
DTSTART:20261025T010000
END:STANDARD
BEGIN:DAYLIGHT
TZOFFSETFROM:+0100
TZOFFSETTO:+0200
TZNAME:CEST
DTSTART:20270328T010000
END:DAYLIGHT
BEGIN:STANDARD
TZOFFSETFROM:+0200
TZOFFSETTO:+0100
TZNAME:CET
DTSTART:20271031T010000
END:STANDARD
END:VTIMEZONE
BEGIN:VEVENT
DTSTART;TZID=Europe/Paris:20260604T124500
DTEND;TZID=Europe/Paris:20260604T134500
DTSTAMP:20260421T091549
CREATED:20250627T093341Z
LAST-MODIFIED:20250902T122526Z
UID:3316-1780577100-1780580700@bib.insa-toulouse.fr
SUMMARY:Atelier Zotero en ligne
DESCRIPTION:
URL:https://bib.insa-toulouse.fr/ateliers-zotero/#new_tab
CATEGORIES:Atelier
ATTACH;FMTTYPE=image/png:https://bib.insa-toulouse.fr/wp-content/uploads/sites/5/2025/06/2024_ev_zotero.png
END:VEVENT
BEGIN:VEVENT
DTSTART;TZID=Europe/Paris:20260604T124500
DTEND;TZID=Europe/Paris:20260604T134500
DTSTAMP:20260421T091549
CREATED:20251216T100326Z
LAST-MODIFIED:20251216T100326Z
UID:3865-1780577100-1780580700@bib.insa-toulouse.fr
SUMMARY:Atelier de conversation en français
DESCRIPTION:
URL:https://bib.insa-toulouse.fr/conversation-en-francais/#new_tab
LOCATION:Salles Multiservices\, bât. 8
CATEGORIES:Atelier
ATTACH;FMTTYPE=image/png:https://bib.insa-toulouse.fr/wp-content/uploads/sites/5/2024/10/2025_actu_conv-fr-ext.png
END:VEVENT
BEGIN:VEVENT
DTSTART;TZID=Europe/Paris:20260604T124500
DTEND;TZID=Europe/Paris:20260604T134500
DTSTAMP:20260421T091549
CREATED:20260106T092613Z
LAST-MODIFIED:20260106T092613Z
UID:3920-1780577100-1780580700@bib.insa-toulouse.fr
SUMMARY:Atelier de conversation en anglais
DESCRIPTION:
URL:https://bib.insa-toulouse.fr/conversation-anglais/#new_tab
LOCATION:Salle de formation de Bib’INSA\, 135 avenue de Rangueil\, Toulouse cedex 4\, 31077\, France
CATEGORIES:Atelier
ATTACH;FMTTYPE=image/png:https://bib.insa-toulouse.fr/wp-content/uploads/sites/5/2024/10/2025_actu_conv_ang.png
END:VEVENT
BEGIN:VEVENT
DTSTART;TZID=Europe/Paris:20260609T124500
DTEND;TZID=Europe/Paris:20260609T134500
DTSTAMP:20260421T091549
CREATED:20250616T125615Z
LAST-MODIFIED:20260413T091502Z
UID:3224-1781009100-1781012700@bib.insa-toulouse.fr
SUMMARY:Club lecture
DESCRIPTION:
URL:https://bib.insa-toulouse.fr/club-lecture/
LOCATION:Bib’INSA\, bât. 8\, 135 avenue de Rangueil\, Toulouse cedex 4\, 31077\, France
CATEGORIES:Atelier
END:VEVENT
BEGIN:VEVENT
DTSTART;TZID=Europe/Paris:20260617T124500
DTEND;TZID=Europe/Paris:20260617T134500
DTSTAMP:20260421T091549
CREATED:20251216T144201Z
LAST-MODIFIED:20251216T144537Z
UID:3894-1781700300-1781703900@bib.insa-toulouse.fr
SUMMARY:Atelier d'échecs
DESCRIPTION:
URL:https://bib.insa-toulouse.fr/ateliers-dechecs/#new_tab
LOCATION:Salle de formation de Bib’INSA\, 135 avenue de Rangueil\, Toulouse cedex 4\, 31077\, France
CATEGORIES:Atelier
ATTACH;FMTTYPE=image/png:https://bib.insa-toulouse.fr/wp-content/uploads/sites/5/2025/12/2025_05_actu_tournoi_echecs-2.png
END:VEVENT
BEGIN:VEVENT
DTSTART;TZID=Europe/Paris:20260618T124500
DTEND;TZID=Europe/Paris:20260618T134500
DTSTAMP:20260421T091549
CREATED:20251216T100348Z
LAST-MODIFIED:20251216T100348Z
UID:3867-1781786700-1781790300@bib.insa-toulouse.fr
SUMMARY:Atelier de conversation en français
DESCRIPTION:
URL:https://bib.insa-toulouse.fr/conversation-en-francais/#new_tab
LOCATION:Salles Multiservices\, bât. 8
CATEGORIES:Atelier
ATTACH;FMTTYPE=image/png:https://bib.insa-toulouse.fr/wp-content/uploads/sites/5/2024/10/2025_actu_conv-fr-ext.png
END:VEVENT
BEGIN:VEVENT
DTSTART;TZID=Europe/Paris:20260618T124500
DTEND;TZID=Europe/Paris:20260618T134500
DTSTAMP:20260421T091549
CREATED:20260106T092648Z
LAST-MODIFIED:20260106T092648Z
UID:3922-1781786700-1781790300@bib.insa-toulouse.fr
SUMMARY:Atelier de conversation en anglais
DESCRIPTION:
URL:https://bib.insa-toulouse.fr/conversation-anglais/#new_tab
LOCATION:Salle de formation de Bib’INSA\, 135 avenue de Rangueil\, Toulouse cedex 4\, 31077\, France
CATEGORIES:Atelier
ATTACH;FMTTYPE=image/png:https://bib.insa-toulouse.fr/wp-content/uploads/sites/5/2024/10/2025_actu_conv_ang.png
END:VEVENT
BEGIN:VEVENT
DTSTART;TZID=Europe/Paris:20260622T124500
DTEND;TZID=Europe/Paris:20260622T134500
DTSTAMP:20260421T091549
CREATED:20250616T125705Z
LAST-MODIFIED:20250715T150236Z
UID:3226-1782132300-1782135900@bib.insa-toulouse.fr
SUMMARY:Atelier d'écriture
DESCRIPTION:
URL:https://bib.insa-toulouse.fr/ateliers-decriture/#new_tab
LOCATION:Salles Multiservices\, bât. 8
CATEGORIES:Atelier
ATTACH;FMTTYPE=image/png:https://bib.insa-toulouse.fr/wp-content/uploads/sites/5/2025/07/2025_actu_ecriture.png
END:VEVENT
END:VCALENDAR