BEGIN:VCALENDAR
VERSION:2.0
PRODID:-//Bib&#039;INSA - ECPv6.15.17.1//NONSGML v1.0//EN
CALSCALE:GREGORIAN
METHOD:PUBLISH
X-ORIGINAL-URL:https://bib.insa-toulouse.fr
X-WR-CALDESC:Évènements pour Bib&#039;INSA
REFRESH-INTERVAL;VALUE=DURATION:PT1H
X-Robots-Tag:noindex
X-PUBLISHED-TTL:PT1H
BEGIN:VTIMEZONE
TZID:Europe/Paris
BEGIN:DAYLIGHT
TZOFFSETFROM:+0100
TZOFFSETTO:+0200
TZNAME:CEST
DTSTART:20240331T010000
END:DAYLIGHT
BEGIN:STANDARD
TZOFFSETFROM:+0200
TZOFFSETTO:+0100
TZNAME:CET
DTSTART:20241027T010000
END:STANDARD
BEGIN:DAYLIGHT
TZOFFSETFROM:+0100
TZOFFSETTO:+0200
TZNAME:CEST
DTSTART:20250330T010000
END:DAYLIGHT
BEGIN:STANDARD
TZOFFSETFROM:+0200
TZOFFSETTO:+0100
TZNAME:CET
DTSTART:20251026T010000
END:STANDARD
BEGIN:DAYLIGHT
TZOFFSETFROM:+0100
TZOFFSETTO:+0200
TZNAME:CEST
DTSTART:20260329T010000
END:DAYLIGHT
BEGIN:STANDARD
TZOFFSETFROM:+0200
TZOFFSETTO:+0100
TZNAME:CET
DTSTART:20261025T010000
END:STANDARD
END:VTIMEZONE
BEGIN:VEVENT
DTSTART;TZID=Europe/Paris:20251202T124500
DTEND;TZID=Europe/Paris:20251202T134500
DTSTAMP:20260421T104159
CREATED:20250616T124420Z
LAST-MODIFIED:20251113T095207Z
UID:3193-1764679500-1764683100@bib.insa-toulouse.fr
SUMMARY:Club lecture
DESCRIPTION:
URL:https://bib.insa-toulouse.fr/club-lecture/#new_tab
LOCATION:Bib’INSA\, bât. 8\, 135 avenue de Rangueil\, Toulouse cedex 4\, 31077\, France
CATEGORIES:Atelier
ATTACH;FMTTYPE=image/png:https://bib.insa-toulouse.fr/wp-content/uploads/sites/5/2025/06/2025_ev_club_lecture.png
END:VEVENT
BEGIN:VEVENT
DTSTART;TZID=Europe/Paris:20251203T124500
DTEND;TZID=Europe/Paris:20251203T134500
DTSTAMP:20260421T104159
CREATED:20250903T123749Z
LAST-MODIFIED:20250903T123749Z
UID:3522-1764765900-1764769500@bib.insa-toulouse.fr
SUMMARY:Atelier de conversation en anglais
DESCRIPTION:
URL:https://bib.insa-toulouse.fr/conversation-anglais/#new_tab
LOCATION:Box 3 de la bibliothèque\, 135 avenue de Rangueil\, Toulouse cedex 4\, 31077\, France
CATEGORIES:Atelier
ATTACH;FMTTYPE=image/png:https://bib.insa-toulouse.fr/wp-content/uploads/sites/5/2024/10/2025_actu_conv_ang.png
END:VEVENT
BEGIN:VEVENT
DTSTART;TZID=Europe/Paris:20251208T124500
DTEND;TZID=Europe/Paris:20251208T134500
DTSTAMP:20260421T104159
CREATED:20250616T123942Z
LAST-MODIFIED:20250716T075959Z
UID:3191-1765197900-1765201500@bib.insa-toulouse.fr
SUMMARY:Atelier Canva : Organigramme
DESCRIPTION:
URL:https://bib.insa-toulouse.fr/ateliers-canva/#new_tab
LOCATION:Salle de formation de Bib’INSA\, 135 avenue de Rangueil\, Toulouse cedex 4\, 31077\, France
CATEGORIES:Atelier
ATTACH;FMTTYPE=image/png:https://bib.insa-toulouse.fr/wp-content/uploads/sites/5/2024/10/2024_actu_stretching.png
END:VEVENT
BEGIN:VEVENT
DTSTART;TZID=Europe/Paris:20251211T124500
DTEND;TZID=Europe/Paris:20251211T134500
DTSTAMP:20260421T104159
CREATED:20250903T122111Z
LAST-MODIFIED:20251121T151703Z
UID:3506-1765457100-1765460700@bib.insa-toulouse.fr
SUMMARY:Atelier de conversation en français
DESCRIPTION:
URL:https://bib.insa-toulouse.fr/conversation-en-francais/#new_tab
LOCATION:Salles Multiservices\, bât. 8
CATEGORIES:Atelier
ATTACH;FMTTYPE=image/png:https://bib.insa-toulouse.fr/wp-content/uploads/sites/5/2024/10/2025_actu_conv-fr-ext.png
END:VEVENT
BEGIN:VEVENT
DTSTART;TZID=Europe/Paris:20251215T124500
DTEND;TZID=Europe/Paris:20251215T134500
DTSTAMP:20260421T104159
CREATED:20250616T124505Z
LAST-MODIFIED:20250715T150621Z
UID:3195-1765802700-1765806300@bib.insa-toulouse.fr
SUMMARY:Atelier d'écriture
DESCRIPTION:
URL:https://bib.insa-toulouse.fr/ateliers-decriture/#new_tab
LOCATION:Salles Multiservices\, bât. 8
CATEGORIES:Atelier
ATTACH;FMTTYPE=image/png:https://bib.insa-toulouse.fr/wp-content/uploads/sites/5/2025/07/2025_actu_ecriture.png
END:VEVENT
BEGIN:VEVENT
DTSTART;TZID=Europe/Paris:20251216T124500
DTEND;TZID=Europe/Paris:20251216T134500
DTSTAMP:20260421T104159
CREATED:20250616T124553Z
LAST-MODIFIED:20251215T132802Z
UID:3197-1765889100-1765892700@bib.insa-toulouse.fr
SUMMARY:Atelier DIY de Noël
DESCRIPTION:
URL:https://bib.insa-toulouse.fr/deco-noel/#new_tab
LOCATION:Salle de formation de Bib’INSA\, 135 avenue de Rangueil\, Toulouse cedex 4\, 31077\, France
CATEGORIES:Atelier
END:VEVENT
BEGIN:VEVENT
DTSTART;TZID=Europe/Paris:20251218T124500
DTEND;TZID=Europe/Paris:20251218T134500
DTSTAMP:20260421T104159
CREATED:20250903T122138Z
LAST-MODIFIED:20250903T122138Z
UID:3508-1766061900-1766065500@bib.insa-toulouse.fr
SUMMARY:Atelier de conversation en français
DESCRIPTION:
URL:https://bib.insa-toulouse.fr/conversation-en-francais/#new_tab
LOCATION:Salles Multiservices\, bât. 8
CATEGORIES:Atelier
ATTACH;FMTTYPE=image/png:https://bib.insa-toulouse.fr/wp-content/uploads/sites/5/2024/10/2025_actu_conv-fr-ext.png
END:VEVENT
BEGIN:VEVENT
DTSTART;TZID=Europe/Paris:20251218T124500
DTEND;TZID=Europe/Paris:20251218T134500
DTSTAMP:20260421T104159
CREATED:20250903T123902Z
LAST-MODIFIED:20250903T123902Z
UID:3524-1766061900-1766065500@bib.insa-toulouse.fr
SUMMARY:Atelier de conversation en anglais
DESCRIPTION:
URL:https://bib.insa-toulouse.fr/conversation-anglais/#new_tab
LOCATION:Box 3 de la bibliothèque\, 135 avenue de Rangueil\, Toulouse cedex 4\, 31077\, France
CATEGORIES:Atelier
ATTACH;FMTTYPE=image/png:https://bib.insa-toulouse.fr/wp-content/uploads/sites/5/2024/10/2025_actu_conv_ang.png
END:VEVENT
END:VCALENDAR